BEGIN:VCALENDAR
VERSION:2.0
PRODID:-//The Dubliner Pub - ECPv6.15.20//NONSGML v1.0//EN
CALSCALE:GREGORIAN
METHOD:PUBLISH
X-WR-CALNAME:The Dubliner Pub
X-ORIGINAL-URL:https://olddub.lunadomo.com
X-WR-CALDESC:Events for The Dubliner Pub
REFRESH-INTERVAL;VALUE=DURATION:PT1H
X-Robots-Tag:noindex
X-PUBLISHED-TTL:PT1H
BEGIN:VTIMEZONE
TZID:America/Chicago
BEGIN:DAYLIGHT
TZOFFSETFROM:-0600
TZOFFSETTO:-0500
TZNAME:CDT
DTSTART:20250309T080000
END:DAYLIGHT
BEGIN:STANDARD
TZOFFSETFROM:-0500
TZOFFSETTO:-0600
TZNAME:CST
DTSTART:20251102T070000
END:STANDARD
BEGIN:DAYLIGHT
TZOFFSETFROM:-0600
TZOFFSETTO:-0500
TZNAME:CDT
DTSTART:20260308T080000
END:DAYLIGHT
BEGIN:STANDARD
TZOFFSETFROM:-0500
TZOFFSETTO:-0600
TZNAME:CST
DTSTART:20261101T070000
END:STANDARD
BEGIN:DAYLIGHT
TZOFFSETFROM:-0600
TZOFFSETTO:-0500
TZNAME:CDT
DTSTART:20270314T080000
END:DAYLIGHT
BEGIN:STANDARD
TZOFFSETFROM:-0500
TZOFFSETTO:-0600
TZNAME:CST
DTSTART:20271107T070000
END:STANDARD
END:VTIMEZONE
BEGIN:VEVENT
DTSTART;TZID=America/Chicago:20260405T170000
DTEND;TZID=America/Chicago:20260405T190000
DTSTAMP:20260423T231151
CREATED:20260305T033308Z
LAST-MODIFIED:20260308T214824Z
UID:10005804-1775408400-1775415600@olddub.lunadomo.com
SUMMARY:Wildrose Fox
DESCRIPTION:Caitlin Robertson\, a Minnesotan guitarist and singer-songwriter\, writes original songs that weave intricate place-based\, poetic narratives that tell simple truths with both sweet and haunting melodies. Her songs illustrate her connections to the landscapes she has lived in\, and speak universal truths of love\, heartache and longing. Collaborating with Robertson is Wildrose Fox. \nCaitlin describes the style of her music as being “folk-rock-country-pop”. Her songs weave Minnesota-prairie-farmgirl\, wild-unsettled-Alaskan-woman\, and Southern-swampy mystery into intricate narratives that tell simple truths with both sweet and haunting melodies.
URL:https://olddub.lunadomo.com/event/wildrose-fox/
LOCATION:The Dubliner Pub\, 2162 University Avenue\, St. Paul\, 55114\, United States
ATTACH;FMTTYPE=image/jpeg:https://olddub.lunadomo.com/wp-content/uploads/Caitlin-Robinson-and-Wildrose-Fox.jpg
GEO:44.9604294;-93.1896843
X-APPLE-STRUCTURED-LOCATION;VALUE=URI;X-ADDRESS=The Dubliner Pub 2162 University Avenue St. Paul 55114 United States;X-APPLE-RADIUS=500;X-TITLE=2162 University Avenue:geo:-93.1896843,44.9604294
END:VEVENT
BEGIN:VEVENT
DTSTART;TZID=America/Chicago:20260405T200000
DTEND;TZID=America/Chicago:20260405T234500
DTSTAMP:20260423T231151
CREATED:20230103T001800Z
LAST-MODIFIED:20260420T203028Z
UID:10005805-1775419200-1775432700@olddub.lunadomo.com
SUMMARY:Sunday Trad Session
DESCRIPTION:New Irish Trad Session\, every Sunday at 8!
URL:https://olddub.lunadomo.com/event/sunday-trad-session/2026-04-05/
LOCATION:The Dubliner Pub\, 2162 University Avenue\, St. Paul\, 55114\, United States
CATEGORIES:Session
ATTACH;FMTTYPE=image/jpeg:https://olddub.lunadomo.com/wp-content/uploads/sunday-session-dubliner.jpg
GEO:44.9604294;-93.1896843
X-APPLE-STRUCTURED-LOCATION;VALUE=URI;X-ADDRESS=The Dubliner Pub 2162 University Avenue St. Paul 55114 United States;X-APPLE-RADIUS=500;X-TITLE=2162 University Avenue:geo:-93.1896843,44.9604294
END:VEVENT
BEGIN:VEVENT
DTSTART;TZID=America/Chicago:20260406T190000
DTEND;TZID=America/Chicago:20260406T210000
DTSTAMP:20260423T231151
CREATED:20240729T160552Z
LAST-MODIFIED:20260320T000032Z
UID:10005853-1775502000-1775509200@olddub.lunadomo.com
SUMMARY:The Great Irish Sing-Along
DESCRIPTION:New! First Monday of every month.\nHosted by Justin O’Carrick.\nDrink promotions available.\nInstruments are acceptable\, but we don’t want an orchestra!
URL:https://olddub.lunadomo.com/event/the-great-irish-sing-along/2026-04-06/
LOCATION:The Dubliner Pub\, 2162 University Avenue\, St. Paul\, 55114\, United States
CATEGORIES:Music
GEO:44.9604294;-93.1896843
X-APPLE-STRUCTURED-LOCATION;VALUE=URI;X-ADDRESS=The Dubliner Pub 2162 University Avenue St. Paul 55114 United States;X-APPLE-RADIUS=500;X-TITLE=2162 University Avenue:geo:-93.1896843,44.9604294
END:VEVENT
BEGIN:VEVENT
DTSTART;TZID=America/Chicago:20260407T190000
DTEND;TZID=America/Chicago:20260407T210000
DTSTAMP:20260423T231151
CREATED:20250607T181900Z
LAST-MODIFIED:20260305T034221Z
UID:10005815-1775588400-1775595600@olddub.lunadomo.com
SUMMARY:The Dub Pub Quiz
DESCRIPTION:Hosted by Larry Raneri. Gift card prizes\, merchandise giveaways. Drink promotions.
URL:https://olddub.lunadomo.com/event/the-dub-pub-quiz/2026-04-07/
LOCATION:The Dubliner Pub\, 2162 University Avenue\, St. Paul\, 55114\, United States
CATEGORIES:Quiz
ATTACH;FMTTYPE=image/jpeg:https://olddub.lunadomo.com/wp-content/uploads/Larry-Raneri-Dubliner-pub-quiz.jpg
GEO:44.9604294;-93.1896843
X-APPLE-STRUCTURED-LOCATION;VALUE=URI;X-ADDRESS=The Dubliner Pub 2162 University Avenue St. Paul 55114 United States;X-APPLE-RADIUS=500;X-TITLE=2162 University Avenue:geo:-93.1896843,44.9604294
END:VEVENT
BEGIN:VEVENT
DTSTART;TZID=America/Chicago:20260408T190000
DTEND;TZID=America/Chicago:20260408T210000
DTSTAMP:20260423T231151
CREATED:20221203T051948Z
LAST-MODIFIED:20260305T033747Z
UID:10005824-1775674800-1775682000@olddub.lunadomo.com
SUMMARY:Irish Céilí Dancing
DESCRIPTION:Join in the fun every Wednesday with instructors Paul\, Justin\, and Alex\, and live music.
URL:https://olddub.lunadomo.com/event/irish-ceili-dancing/2026-04-08/
LOCATION:The Dubliner Pub\, 2162 University Avenue\, St. Paul\, 55114\, United States
CATEGORIES:Dance
ATTACH;FMTTYPE=image/jpeg:https://olddub.lunadomo.com/wp-content/uploads/Irish-Dance-at-the-Dubliner-5624c.jpg
GEO:44.9604294;-93.1896843
X-APPLE-STRUCTURED-LOCATION;VALUE=URI;X-ADDRESS=The Dubliner Pub 2162 University Avenue St. Paul 55114 United States;X-APPLE-RADIUS=500;X-TITLE=2162 University Avenue:geo:-93.1896843,44.9604294
END:VEVENT
BEGIN:VEVENT
DTSTART;TZID=America/Chicago:20260408T190000
DTEND;TZID=America/Chicago:20260408T220000
DTSTAMP:20260423T231151
CREATED:20210602T184915Z
LAST-MODIFIED:20260419T003821Z
UID:10005856-1775674800-1775685600@olddub.lunadomo.com
SUMMARY:Tom Dahill and Ginny Johnson
DESCRIPTION:Tom and Ginny bring alive the soul of Ireland. Using accordion\, concertina\, fiddle—and more—they play heavy music with a light touch. Performing tunes learned from the old masters\, they delight audiences with passionate reels and playful songs not heard anywhere else. \nFacebook page
URL:https://olddub.lunadomo.com/event/tom-dahill-and-ginny-johnson/2026-04-08/
LOCATION:The Dubliner Pub\, 2162 University Avenue\, St. Paul\, 55114\, United States
CATEGORIES:Music
ATTACH;FMTTYPE=image/jpeg:https://olddub.lunadomo.com/wp-content/uploads/Tom-Dahill-Ginny-Johnson.jpg
GEO:44.9604294;-93.1896843
X-APPLE-STRUCTURED-LOCATION;VALUE=URI;X-ADDRESS=The Dubliner Pub 2162 University Avenue St. Paul 55114 United States;X-APPLE-RADIUS=500;X-TITLE=2162 University Avenue:geo:-93.1896843,44.9604294
END:VEVENT
BEGIN:VEVENT
DTSTART;TZID=America/Chicago:20260409T170000
DTEND;TZID=America/Chicago:20260409T190000
DTSTAMP:20260423T231151
CREATED:20231105T144621Z
LAST-MODIFIED:20260305T030231Z
UID:10005787-1775754000-1775761200@olddub.lunadomo.com
SUMMARY:Charlie Parr
DESCRIPTION:An easily confused and very shy individual\, Charlie Parr has been traveling around singing his songs ever since leaving Austin Minnesota in the 1980’s in search of Spider John Koerner\, whom he found about 100 miles north at the Viking Bar one Sunday night. The experience changed his life\, made him more or less unemployable\, and brings us to now: 13 recordings\, 250 shows a year or more\, 200\,000 miles on a well broke in Kia\, and a nasty fear of heights. Resonator fueled folk songs from Duluth Minnesota. \ncharlieparr.com
URL:https://olddub.lunadomo.com/event/charlie-parr/2026-04-09/
LOCATION:The Dubliner Pub\, 2162 University Avenue\, St. Paul\, 55114\, United States
CATEGORIES:Music
ATTACH;FMTTYPE=image/jpeg:https://olddub.lunadomo.com/wp-content/uploads/Charlie-Parr.jpg
GEO:44.9604294;-93.1896843
X-APPLE-STRUCTURED-LOCATION;VALUE=URI;X-ADDRESS=The Dubliner Pub 2162 University Avenue St. Paul 55114 United States;X-APPLE-RADIUS=500;X-TITLE=2162 University Avenue:geo:-93.1896843,44.9604294
END:VEVENT
BEGIN:VEVENT
DTSTART;TZID=America/Chicago:20260409T200000
DTEND;TZID=America/Chicago:20260409T230000
DTSTAMP:20260423T231151
CREATED:20221203T045846Z
LAST-MODIFIED:20260320T000350Z
UID:10005857-1775764800-1775775600@olddub.lunadomo.com
SUMMARY:DD & Company
DESCRIPTION:DD & Company is Dick Danaher (accordion\, clarinet\, tenor saxophone\, vocals) and Nick Jordan (guitar\, vocals\, tinwhistle\, and foot percussion) and Philip Rampi (percussion). \nDick Danaher is a long-time luminary of the Twin Cities roots music scene\, on various saxophones and accordion\, most recently with Dan Newton and the late and great Rockin’ Pinecones \nPhilip Rampi plays bass / percussion\, octave mandolin\, banjo and cello with the adventurous string band treVeld\, and with Josh Cleveland and the Cedar Street Band \nNick Jordan is a guitarist and singer with a love for many kinds of roots music; he is equally fond of sublime Swing ballads and raucous Jug-band hollers. He has been working for years in a duo with fiddler Mary DuShane of Prairie Home Companion fame. \nDD & Company play and sing Swing\, Zydeco\, Western Swing\, Old-Time Country\, Rockabilly\, and Jug-Band music\, plus the odd Tango and Irish jig. The tie that binds their music is catchy dance rhythms from many cultures\, propelled by the big voice of the accordion\, jazzy solos on clarinet and sax\, the rich tones of an electric archtop guitar of fine vintage\, fierce double percussion from a small drum kit and relentless foot percussion in the French Canadian style. All band members sing enthusiastically. \nFacebook page
URL:https://olddub.lunadomo.com/event/dd-company/2026-04-09/
LOCATION:The Dubliner Pub\, 2162 University Avenue\, St. Paul\, 55114\, United States
CATEGORIES:Music
ATTACH;FMTTYPE=image/jpeg:https://olddub.lunadomo.com/wp-content/uploads/ddandco3.jpg
GEO:44.9604294;-93.1896843
X-APPLE-STRUCTURED-LOCATION;VALUE=URI;X-ADDRESS=The Dubliner Pub 2162 University Avenue St. Paul 55114 United States;X-APPLE-RADIUS=500;X-TITLE=2162 University Avenue:geo:-93.1896843,44.9604294
END:VEVENT
BEGIN:VEVENT
DTSTART;TZID=America/Chicago:20260410T180000
DTEND;TZID=America/Chicago:20260410T200000
DTSTAMP:20260423T231151
CREATED:20210522T022843Z
LAST-MODIFIED:20260305T033838Z
UID:10005834-1775844000-1775851200@olddub.lunadomo.com
SUMMARY:Irish Music Session
DESCRIPTION:Weekly trad session at the Dubliner.
URL:https://olddub.lunadomo.com/event/irish-music-session-2022-12-09/2026-04-10/
LOCATION:The Dubliner Pub\, 2162 University Avenue\, St. Paul\, 55114\, United States
CATEGORIES:Session
ATTACH;FMTTYPE=image/jpeg:https://olddub.lunadomo.com/wp-content/uploads/session-4805-daithi-sproule-600.jpg
GEO:44.9604294;-93.1896843
X-APPLE-STRUCTURED-LOCATION;VALUE=URI;X-ADDRESS=The Dubliner Pub 2162 University Avenue St. Paul 55114 United States;X-APPLE-RADIUS=500;X-TITLE=2162 University Avenue:geo:-93.1896843,44.9604294
END:VEVENT
BEGIN:VEVENT
DTSTART;TZID=America/Chicago:20260411T200000
DTEND;TZID=America/Chicago:20260411T234500
DTSTAMP:20260423T231151
CREATED:20230414T163637Z
LAST-MODIFIED:20260419T014315Z
UID:10005859-1775937600-1775951100@olddub.lunadomo.com
SUMMARY:The Langer's Ball
DESCRIPTION:The Langer’s Ball\, the two-piece Irish Folk-punk band\, has been writing\, touring and performing for over 15 years. Playing their own brand of traditional drinking songs and original material\, their sound is harder-hitting and bigger than you’d expect it ever could be. With a thumping beat and a flurry of notes and harmonies\, you’ll dash to refill your drink and cheer for more. \nthelangersball.com
URL:https://olddub.lunadomo.com/event/the-langers-ball/2026-04-11/
LOCATION:The Dubliner Pub\, 2162 University Avenue\, St. Paul\, 55114\, United States
CATEGORIES:Music
ATTACH;FMTTYPE=image/jpeg:https://olddub.lunadomo.com/wp-content/uploads/langers-ball-1000.jpg
GEO:44.9604294;-93.1896843
X-APPLE-STRUCTURED-LOCATION;VALUE=URI;X-ADDRESS=The Dubliner Pub 2162 University Avenue St. Paul 55114 United States;X-APPLE-RADIUS=500;X-TITLE=2162 University Avenue:geo:-93.1896843,44.9604294
END:VEVENT
END:VCALENDAR