BEGIN:VCALENDAR
VERSION:2.0
PRODID:-//The Dubliner Pub - ECPv6.15.20//NONSGML v1.0//EN
CALSCALE:GREGORIAN
METHOD:PUBLISH
X-WR-CALNAME:The Dubliner Pub
X-ORIGINAL-URL:https://olddub.lunadomo.com
X-WR-CALDESC:Events for The Dubliner Pub
REFRESH-INTERVAL;VALUE=DURATION:PT1H
X-Robots-Tag:noindex
X-PUBLISHED-TTL:PT1H
BEGIN:VTIMEZONE
TZID:America/Chicago
BEGIN:DAYLIGHT
TZOFFSETFROM:-0600
TZOFFSETTO:-0500
TZNAME:CDT
DTSTART:20250309T080000
END:DAYLIGHT
BEGIN:STANDARD
TZOFFSETFROM:-0500
TZOFFSETTO:-0600
TZNAME:CST
DTSTART:20251102T070000
END:STANDARD
BEGIN:DAYLIGHT
TZOFFSETFROM:-0600
TZOFFSETTO:-0500
TZNAME:CDT
DTSTART:20260308T080000
END:DAYLIGHT
BEGIN:STANDARD
TZOFFSETFROM:-0500
TZOFFSETTO:-0600
TZNAME:CST
DTSTART:20261101T070000
END:STANDARD
BEGIN:DAYLIGHT
TZOFFSETFROM:-0600
TZOFFSETTO:-0500
TZNAME:CDT
DTSTART:20270314T080000
END:DAYLIGHT
BEGIN:STANDARD
TZOFFSETFROM:-0500
TZOFFSETTO:-0600
TZNAME:CST
DTSTART:20271107T070000
END:STANDARD
END:VTIMEZONE
BEGIN:VEVENT
DTSTART;TZID=America/Chicago:20260308T140000
DTEND;TZID=America/Chicago:20260308T160000
DTSTAMP:20260424T020016
CREATED:20251007T201225Z
LAST-MODIFIED:20260419T003223Z
UID:10005763-1772978400-1772985600@olddub.lunadomo.com
SUMMARY:Crown of Clover
DESCRIPTION:Twist together: branches of folk revival\, stems of myth and medievalism\, Long 18th Century leaves\, Celtic roots\, twigs of Tolkien\, dried sea shanty\, vines of prog-rock and a sprig of ethereal. Connect full circle and you’ve got yourself a Crown of Clover. \nfacebook page
URL:https://olddub.lunadomo.com/event/crown-of-clover/2026-03-08/
LOCATION:The Dubliner Pub\, 2162 University Avenue\, St. Paul\, 55114\, United States
CATEGORIES:Music
ATTACH;FMTTYPE=image/jpeg:https://olddub.lunadomo.com/wp-content/uploads/Crown-of-Clover.jpg
GEO:44.9604294;-93.1896843
X-APPLE-STRUCTURED-LOCATION;VALUE=URI;X-ADDRESS=The Dubliner Pub 2162 University Avenue St. Paul 55114 United States;X-APPLE-RADIUS=500;X-TITLE=2162 University Avenue:geo:-93.1896843,44.9604294
END:VEVENT
BEGIN:VEVENT
DTSTART;TZID=America/Chicago:20260308T170000
DTEND;TZID=America/Chicago:20260308T190000
DTSTAMP:20260424T020016
CREATED:20221203T052918Z
LAST-MODIFIED:20260420T202031Z
UID:10005681-1772989200-1772996400@olddub.lunadomo.com
SUMMARY:Ray Barnard
DESCRIPTION:Review of Ray Barnard & The Reverberation’s album Tinted Windows To the Soul by Joe Robbie Luke – (The Roots & Funky Numbers): \nAt first I thought – Sweet\, a converted blue-eyed souler proclaiming his authenticity. Wrong. Thankfully\, Ray Bs got his own bag. Vocally\, he’s drunk deep from the Bill Withers-Pops Staples well understated (and underrated). Song-wise\, hes kinda Mayfield\, kinda old Nashville\, kinda Gamble & Huff\, kinda his own deal. There s also this subtle sense of classic reggae percolating in the production. This gives it a much different slant than retro stars Sharon Jones\, James Hunter\, and Amy Winehouse. The clever use of horns and MPC loops adds cool neo-soul flourishes. My faves are: ‘Carolee’ and ‘Classified\,’ a dense\, funky\, stonewall to a nosy ex-lover. I was intrigued by the protest song in reverse\, Deportation Day\, and loved the spooky\, visceral Race with the Devil. Overall this CD is a shining jewel from out of left field.
URL:https://olddub.lunadomo.com/event/ray-barnard/2026-03-08/
LOCATION:The Dubliner Pub\, 2162 University Avenue\, St. Paul\, 55114\, United States
CATEGORIES:Music
ATTACH;FMTTYPE=image/jpeg:https://olddub.lunadomo.com/wp-content/uploads/ray-barnard.jpg
GEO:44.9604294;-93.1896843
X-APPLE-STRUCTURED-LOCATION;VALUE=URI;X-ADDRESS=The Dubliner Pub 2162 University Avenue St. Paul 55114 United States;X-APPLE-RADIUS=500;X-TITLE=2162 University Avenue:geo:-93.1896843,44.9604294
END:VEVENT
BEGIN:VEVENT
DTSTART;TZID=America/Chicago:20260308T200000
DTEND;TZID=America/Chicago:20260308T234500
DTSTAMP:20260424T020016
CREATED:20230103T001800Z
LAST-MODIFIED:20260420T203028Z
UID:10005706-1773000000-1773013500@olddub.lunadomo.com
SUMMARY:Sunday Trad Session
DESCRIPTION:New Irish Trad Session\, every Sunday at 8!
URL:https://olddub.lunadomo.com/event/sunday-trad-session/2026-03-08/
LOCATION:The Dubliner Pub\, 2162 University Avenue\, St. Paul\, 55114\, United States
CATEGORIES:Session
ATTACH;FMTTYPE=image/jpeg:https://olddub.lunadomo.com/wp-content/uploads/sunday-session-dubliner.jpg
GEO:44.9604294;-93.1896843
X-APPLE-STRUCTURED-LOCATION;VALUE=URI;X-ADDRESS=The Dubliner Pub 2162 University Avenue St. Paul 55114 United States;X-APPLE-RADIUS=500;X-TITLE=2162 University Avenue:geo:-93.1896843,44.9604294
END:VEVENT
BEGIN:VEVENT
DTSTART;TZID=America/Chicago:20260310T190000
DTEND;TZID=America/Chicago:20260310T210000
DTSTAMP:20260424T020016
CREATED:20250607T181900Z
LAST-MODIFIED:20260305T034221Z
UID:10005698-1773169200-1773176400@olddub.lunadomo.com
SUMMARY:The Dub Pub Quiz
DESCRIPTION:Hosted by Larry Raneri. Gift card prizes\, merchandise giveaways. Drink promotions.
URL:https://olddub.lunadomo.com/event/the-dub-pub-quiz/2026-03-10/
LOCATION:The Dubliner Pub\, 2162 University Avenue\, St. Paul\, 55114\, United States
CATEGORIES:Quiz
ATTACH;FMTTYPE=image/jpeg:https://olddub.lunadomo.com/wp-content/uploads/Larry-Raneri-Dubliner-pub-quiz.jpg
GEO:44.9604294;-93.1896843
X-APPLE-STRUCTURED-LOCATION;VALUE=URI;X-ADDRESS=The Dubliner Pub 2162 University Avenue St. Paul 55114 United States;X-APPLE-RADIUS=500;X-TITLE=2162 University Avenue:geo:-93.1896843,44.9604294
END:VEVENT
BEGIN:VEVENT
DTSTART;TZID=America/Chicago:20260311T190000
DTEND;TZID=America/Chicago:20260311T210000
DTSTAMP:20260424T020016
CREATED:20221203T051948Z
LAST-MODIFIED:20260305T033747Z
UID:10005714-1773255600-1773262800@olddub.lunadomo.com
SUMMARY:Irish Céilí Dancing
DESCRIPTION:Join in the fun every Wednesday with instructors Paul\, Justin\, and Alex\, and live music.
URL:https://olddub.lunadomo.com/event/irish-ceili-dancing/2026-03-11/
LOCATION:The Dubliner Pub\, 2162 University Avenue\, St. Paul\, 55114\, United States
CATEGORIES:Dance
ATTACH;FMTTYPE=image/jpeg:https://olddub.lunadomo.com/wp-content/uploads/Irish-Dance-at-the-Dubliner-5624c.jpg
GEO:44.9604294;-93.1896843
X-APPLE-STRUCTURED-LOCATION;VALUE=URI;X-ADDRESS=The Dubliner Pub 2162 University Avenue St. Paul 55114 United States;X-APPLE-RADIUS=500;X-TITLE=2162 University Avenue:geo:-93.1896843,44.9604294
END:VEVENT
BEGIN:VEVENT
DTSTART;TZID=America/Chicago:20260312T200000
DTEND;TZID=America/Chicago:20260312T230000
DTSTAMP:20260424T020016
CREATED:20241210T201227Z
LAST-MODIFIED:20260419T003949Z
UID:10005767-1773345600-1773356400@olddub.lunadomo.com
SUMMARY:Leslie Rich and the Rocket Soul Choir
DESCRIPTION:Leslie Rich (vocals\, guitar\, keyboards) grew up in Northern Ireland\, listening to a mix of indie rock\, acoustic songwriters and traditional Celtic music. Inspired by artists like Luka Bloom and Throwing Muses\, Leslie became the principal songwriter\, singer and guitarist for bands such as Emily Ryder\, A Little Of The Ready and the Celtic folk band Hounds of Finn\, recording on various labels including Immortal Recordings\, Time To Be Proud Records\, New Folk Records and Loud Folk Records. \nHe founded the Rocket Soul Choir in 1994\, mainly as an acoustic response to the heavy\, guitar-driven\, Irish bands cropping up at that time. Even while Leslie recorded solo albums\, played in other projects and relocated to Minneapolis\, the Rocket Soul Choir continued in various configurations over the years–always with the mission to create stripped-down rock. The band has released four albums\, including the 2016 EP Kidder’s Son\, which received high praise on both sides of the pond\, and their new album The Butcher Boy – the first featuring the current lineup.
URL:https://olddub.lunadomo.com/event/leslie-rich-and-the-rocket-soul-choir/2026-03-12/
LOCATION:The Dubliner Pub\, 2162 University Avenue\, St. Paul\, 55114\, United States
CATEGORIES:Music
ATTACH;FMTTYPE=image/jpeg:https://olddub.lunadomo.com/wp-content/uploads/rocket-soul-choir.jpg
GEO:44.9604294;-93.1896843
X-APPLE-STRUCTURED-LOCATION;VALUE=URI;X-ADDRESS=The Dubliner Pub 2162 University Avenue St. Paul 55114 United States;X-APPLE-RADIUS=500;X-TITLE=2162 University Avenue:geo:-93.1896843,44.9604294
END:VEVENT
BEGIN:VEVENT
DTSTART;TZID=America/Chicago:20260313T180000
DTEND;TZID=America/Chicago:20260313T200000
DTSTAMP:20260424T020016
CREATED:20210522T022843Z
LAST-MODIFIED:20260305T033838Z
UID:10005722-1773424800-1773432000@olddub.lunadomo.com
SUMMARY:Irish Music Session
DESCRIPTION:Weekly trad session at the Dubliner.
URL:https://olddub.lunadomo.com/event/irish-music-session-2022-12-09/2026-03-13/
LOCATION:The Dubliner Pub\, 2162 University Avenue\, St. Paul\, 55114\, United States
CATEGORIES:Session
ATTACH;FMTTYPE=image/jpeg:https://olddub.lunadomo.com/wp-content/uploads/session-4805-daithi-sproule-600.jpg
GEO:44.9604294;-93.1896843
X-APPLE-STRUCTURED-LOCATION;VALUE=URI;X-ADDRESS=The Dubliner Pub 2162 University Avenue St. Paul 55114 United States;X-APPLE-RADIUS=500;X-TITLE=2162 University Avenue:geo:-93.1896843,44.9604294
END:VEVENT
BEGIN:VEVENT
DTSTART;TZID=America/Chicago:20260314T200000
DTEND;TZID=America/Chicago:20260314T234500
DTSTAMP:20260424T020016
CREATED:20221207T030203Z
LAST-MODIFIED:20260319T235429Z
UID:10005769-1773518400-1773531900@olddub.lunadomo.com
SUMMARY:The Northerly Gales
DESCRIPTION:The Northerly Gales is a Twin Cities-based Celtic/Americana group. From the soaring highland pipes and fiddle to the driving rhythm\, the Gales are always ready to rock. Whether you’re looking to tap your feet\, forget your troubles\, or just share a pint over some great tunes\, look no further than The Northerly Gales. \nwebsite
URL:https://olddub.lunadomo.com/event/the-northerly-gales/2026-03-14/
LOCATION:The Dubliner Pub\, 2162 University Avenue\, St. Paul\, 55114\, United States
CATEGORIES:Music
ATTACH;FMTTYPE=image/jpeg:https://olddub.lunadomo.com/wp-content/uploads/northerly-gales.jpg
GEO:44.9604294;-93.1896843
X-APPLE-STRUCTURED-LOCATION;VALUE=URI;X-ADDRESS=The Dubliner Pub 2162 University Avenue St. Paul 55114 United States;X-APPLE-RADIUS=500;X-TITLE=2162 University Avenue:geo:-93.1896843,44.9604294
END:VEVENT
END:VCALENDAR