BEGIN:VCALENDAR
VERSION:2.0
PRODID:-//The Dubliner Pub - ECPv6.15.20//NONSGML v1.0//EN
CALSCALE:GREGORIAN
METHOD:PUBLISH
X-ORIGINAL-URL:https://olddub.lunadomo.com
X-WR-CALDESC:Events for The Dubliner Pub
REFRESH-INTERVAL;VALUE=DURATION:PT1H
X-Robots-Tag:noindex
X-PUBLISHED-TTL:PT1H
BEGIN:VTIMEZONE
TZID:America/Chicago
BEGIN:DAYLIGHT
TZOFFSETFROM:-0600
TZOFFSETTO:-0500
TZNAME:CDT
DTSTART:20250309T080000
END:DAYLIGHT
BEGIN:STANDARD
TZOFFSETFROM:-0500
TZOFFSETTO:-0600
TZNAME:CST
DTSTART:20251102T070000
END:STANDARD
BEGIN:DAYLIGHT
TZOFFSETFROM:-0600
TZOFFSETTO:-0500
TZNAME:CDT
DTSTART:20260308T080000
END:DAYLIGHT
BEGIN:STANDARD
TZOFFSETFROM:-0500
TZOFFSETTO:-0600
TZNAME:CST
DTSTART:20261101T070000
END:STANDARD
BEGIN:DAYLIGHT
TZOFFSETFROM:-0600
TZOFFSETTO:-0500
TZNAME:CDT
DTSTART:20270314T080000
END:DAYLIGHT
BEGIN:STANDARD
TZOFFSETFROM:-0500
TZOFFSETTO:-0600
TZNAME:CST
DTSTART:20271107T070000
END:STANDARD
END:VTIMEZONE
BEGIN:VEVENT
DTSTART;TZID=America/Chicago:20260517T140000
DTEND;TZID=America/Chicago:20260517T160000
DTSTAMP:20260423T231343
CREATED:20251211T201943Z
LAST-MODIFIED:20260419T004235Z
UID:10005890-1779026400-1779033600@olddub.lunadomo.com
SUMMARY:Debbie Briggs
DESCRIPTION:Debbie Briggs • AMERICANA MUSIC \nTwin Cities vocalist\, Debbie Briggs & guitarist\, Tim Kirchhof are taking your requests and bringing a mix of Americana\, Blues\, Classic Country\, and Jazz. Covering greats like Patsy Cline\, Bonnie Rait\, Willie Nelson\, Bob Dylan\, John Prine\, and more. Their warm sound and timeless music is great to dance to\, chill with a pint\, or sing-along with your friends. \nJoin us! And hear what the buzz is about.
URL:https://olddub.lunadomo.com/event/debbie_briggs-2/2026-05-17/
LOCATION:The Dubliner Pub\, 2162 University Avenue\, St. Paul\, 55114\, United States
CATEGORIES:Music
ATTACH;FMTTYPE=image/jpeg:https://olddub.lunadomo.com/wp-content/uploads/Debbie-Briggs-bw.jpg
GEO:44.9604294;-93.1896843
X-APPLE-STRUCTURED-LOCATION;VALUE=URI;X-ADDRESS=The Dubliner Pub 2162 University Avenue St. Paul 55114 United States;X-APPLE-RADIUS=500;X-TITLE=2162 University Avenue:geo:-93.1896843,44.9604294
END:VEVENT
BEGIN:VEVENT
DTSTART;TZID=America/Chicago:20260517T170000
DTEND;TZID=America/Chicago:20260517T190000
DTSTAMP:20260423T231343
CREATED:20221203T052549Z
LAST-MODIFIED:20260305T030638Z
UID:10005792-1779037200-1779044400@olddub.lunadomo.com
SUMMARY:Phil Heywood
DESCRIPTION:Phil Heywood plays fingerstyle guitar with a bluesy swing and a bucketful of whatever it takes to turn an instrumental piece into an arresting lyrical narrative. His lucid playing encompasses the down-home rhythmic groove of a Mississippi John Hurt or Leadbelly\, and the sheer fluidity and melodic flair of such contemporaries as Leo Kottke. The internationally renowned Kottke\, in fact\, once handpicked Heywood to tour and perform duets with him. A soul-satisfying instrumentalist\, Phil draws listeners in with his voice as well\, singing in a warm\, plainspoken baritone that blends smoothly with his rock-solid guitar work. \nphilheywood.com
URL:https://olddub.lunadomo.com/event/phil-heywood/2026-05-17/
LOCATION:The Dubliner Pub\, 2162 University Avenue\, St. Paul\, 55114\, United States
CATEGORIES:Music
ATTACH;FMTTYPE=image/jpeg:https://olddub.lunadomo.com/wp-content/uploads/heywood-1000.jpg
GEO:44.9604294;-93.1896843
X-APPLE-STRUCTURED-LOCATION;VALUE=URI;X-ADDRESS=The Dubliner Pub 2162 University Avenue St. Paul 55114 United States;X-APPLE-RADIUS=500;X-TITLE=2162 University Avenue:geo:-93.1896843,44.9604294
END:VEVENT
BEGIN:VEVENT
DTSTART;TZID=America/Chicago:20260517T200000
DTEND;TZID=America/Chicago:20260517T234500
DTSTAMP:20260423T231343
CREATED:20230103T001800Z
LAST-MODIFIED:20260420T203028Z
UID:10005811-1779048000-1779061500@olddub.lunadomo.com
SUMMARY:Sunday Trad Session
DESCRIPTION:New Irish Trad Session\, every Sunday at 8!
URL:https://olddub.lunadomo.com/event/sunday-trad-session/2026-05-17/
LOCATION:The Dubliner Pub\, 2162 University Avenue\, St. Paul\, 55114\, United States
CATEGORIES:Session
ATTACH;FMTTYPE=image/jpeg:https://olddub.lunadomo.com/wp-content/uploads/sunday-session-dubliner.jpg
GEO:44.9604294;-93.1896843
X-APPLE-STRUCTURED-LOCATION;VALUE=URI;X-ADDRESS=The Dubliner Pub 2162 University Avenue St. Paul 55114 United States;X-APPLE-RADIUS=500;X-TITLE=2162 University Avenue:geo:-93.1896843,44.9604294
END:VEVENT
END:VCALENDAR