BEGIN:VCALENDAR
VERSION:2.0
PRODID:-//The Dubliner Pub - ECPv6.15.20//NONSGML v1.0//EN
CALSCALE:GREGORIAN
METHOD:PUBLISH
X-WR-CALNAME:The Dubliner Pub
X-ORIGINAL-URL:https://olddub.lunadomo.com
X-WR-CALDESC:Events for The Dubliner Pub
REFRESH-INTERVAL;VALUE=DURATION:PT1H
X-Robots-Tag:noindex
X-PUBLISHED-TTL:PT1H
BEGIN:VTIMEZONE
TZID:America/Chicago
BEGIN:DAYLIGHT
TZOFFSETFROM:-0600
TZOFFSETTO:-0500
TZNAME:CDT
DTSTART:20250309T080000
END:DAYLIGHT
BEGIN:STANDARD
TZOFFSETFROM:-0500
TZOFFSETTO:-0600
TZNAME:CST
DTSTART:20251102T070000
END:STANDARD
BEGIN:DAYLIGHT
TZOFFSETFROM:-0600
TZOFFSETTO:-0500
TZNAME:CDT
DTSTART:20260308T080000
END:DAYLIGHT
BEGIN:STANDARD
TZOFFSETFROM:-0500
TZOFFSETTO:-0600
TZNAME:CST
DTSTART:20261101T070000
END:STANDARD
BEGIN:DAYLIGHT
TZOFFSETFROM:-0600
TZOFFSETTO:-0500
TZNAME:CDT
DTSTART:20270314T080000
END:DAYLIGHT
BEGIN:STANDARD
TZOFFSETFROM:-0500
TZOFFSETTO:-0600
TZNAME:CST
DTSTART:20271107T070000
END:STANDARD
END:VTIMEZONE
BEGIN:VEVENT
DTSTART;TZID=America/Chicago:20260405T170000
DTEND;TZID=America/Chicago:20260405T190000
DTSTAMP:20260423T215157
CREATED:20260305T033308Z
LAST-MODIFIED:20260308T214824Z
UID:10005804-1775408400-1775415600@olddub.lunadomo.com
SUMMARY:Wildrose Fox
DESCRIPTION:Caitlin Robertson\, a Minnesotan guitarist and singer-songwriter\, writes original songs that weave intricate place-based\, poetic narratives that tell simple truths with both sweet and haunting melodies. Her songs illustrate her connections to the landscapes she has lived in\, and speak universal truths of love\, heartache and longing. Collaborating with Robertson is Wildrose Fox. \nCaitlin describes the style of her music as being “folk-rock-country-pop”. Her songs weave Minnesota-prairie-farmgirl\, wild-unsettled-Alaskan-woman\, and Southern-swampy mystery into intricate narratives that tell simple truths with both sweet and haunting melodies.
URL:https://olddub.lunadomo.com/event/wildrose-fox/
LOCATION:The Dubliner Pub\, 2162 University Avenue\, St. Paul\, 55114\, United States
ATTACH;FMTTYPE=image/jpeg:https://olddub.lunadomo.com/wp-content/uploads/Caitlin-Robinson-and-Wildrose-Fox.jpg
GEO:44.9604294;-93.1896843
X-APPLE-STRUCTURED-LOCATION;VALUE=URI;X-ADDRESS=The Dubliner Pub 2162 University Avenue St. Paul 55114 United States;X-APPLE-RADIUS=500;X-TITLE=2162 University Avenue:geo:-93.1896843,44.9604294
END:VEVENT
BEGIN:VEVENT
DTSTART;TZID=America/Chicago:20260405T200000
DTEND;TZID=America/Chicago:20260405T234500
DTSTAMP:20260423T215157
CREATED:20230103T001800Z
LAST-MODIFIED:20260420T203028Z
UID:10005805-1775419200-1775432700@olddub.lunadomo.com
SUMMARY:Sunday Trad Session
DESCRIPTION:New Irish Trad Session\, every Sunday at 8!
URL:https://olddub.lunadomo.com/event/sunday-trad-session/2026-04-05/
LOCATION:The Dubliner Pub\, 2162 University Avenue\, St. Paul\, 55114\, United States
CATEGORIES:Session
ATTACH;FMTTYPE=image/jpeg:https://olddub.lunadomo.com/wp-content/uploads/sunday-session-dubliner.jpg
GEO:44.9604294;-93.1896843
X-APPLE-STRUCTURED-LOCATION;VALUE=URI;X-ADDRESS=The Dubliner Pub 2162 University Avenue St. Paul 55114 United States;X-APPLE-RADIUS=500;X-TITLE=2162 University Avenue:geo:-93.1896843,44.9604294
END:VEVENT
END:VCALENDAR