BEGIN:VCALENDAR
VERSION:2.0
PRODID:-//The Dubliner Pub - ECPv6.15.20//NONSGML v1.0//EN
CALSCALE:GREGORIAN
METHOD:PUBLISH
X-ORIGINAL-URL:https://olddub.lunadomo.com
X-WR-CALDESC:Events for The Dubliner Pub
REFRESH-INTERVAL;VALUE=DURATION:PT1H
X-Robots-Tag:noindex
X-PUBLISHED-TTL:PT1H
BEGIN:VTIMEZONE
TZID:America/Chicago
BEGIN:DAYLIGHT
TZOFFSETFROM:-0600
TZOFFSETTO:-0500
TZNAME:CDT
DTSTART:20250309T080000
END:DAYLIGHT
BEGIN:STANDARD
TZOFFSETFROM:-0500
TZOFFSETTO:-0600
TZNAME:CST
DTSTART:20251102T070000
END:STANDARD
BEGIN:DAYLIGHT
TZOFFSETFROM:-0600
TZOFFSETTO:-0500
TZNAME:CDT
DTSTART:20260308T080000
END:DAYLIGHT
BEGIN:STANDARD
TZOFFSETFROM:-0500
TZOFFSETTO:-0600
TZNAME:CST
DTSTART:20261101T070000
END:STANDARD
BEGIN:DAYLIGHT
TZOFFSETFROM:-0600
TZOFFSETTO:-0500
TZNAME:CDT
DTSTART:20270314T080000
END:DAYLIGHT
BEGIN:STANDARD
TZOFFSETFROM:-0500
TZOFFSETTO:-0600
TZNAME:CST
DTSTART:20271107T070000
END:STANDARD
END:VTIMEZONE
BEGIN:VEVENT
DTSTART;TZID=America/Chicago:20260124T150000
DTEND;TZID=America/Chicago:20260124T180000
DTSTAMP:20260424T020101
CREATED:20250315T150930Z
LAST-MODIFIED:20260321T003647Z
UID:10005752-1769266800-1769277600@olddub.lunadomo.com
SUMMARY:Jim McGowan
DESCRIPTION:Performing an engaging mix of acoustic\, folk\, rock\, Irish\, roots & blues\, Jim McGowans’s musical influences include John Prine\, Cat Stevens\, Gordon Lightfoot\, Johnny Cash\, John Denver\, Jim Croce\, James Taylor\, Doc Watson\, Tommy Makem\, the Clancy Brothers and many others. Prepare for a good time…and to sing along! \nwebsite
URL:https://olddub.lunadomo.com/event/jim-mcgowan-3/2026-01-24/
LOCATION:The Dubliner Pub\, 2162 University Avenue\, St. Paul\, 55114\, United States
CATEGORIES:Music
ATTACH;FMTTYPE=image/jpeg:https://olddub.lunadomo.com/wp-content/uploads/jim-mcgowan-1000.jpg
GEO:44.9604294;-93.1896843
X-APPLE-STRUCTURED-LOCATION;VALUE=URI;X-ADDRESS=The Dubliner Pub 2162 University Avenue St. Paul 55114 United States;X-APPLE-RADIUS=500;X-TITLE=2162 University Avenue:geo:-93.1896843,44.9604294
END:VEVENT
END:VCALENDAR