BEGIN:VCALENDAR
VERSION:2.0
PRODID:-//The Dubliner Pub - ECPv6.15.20//NONSGML v1.0//EN
CALSCALE:GREGORIAN
METHOD:PUBLISH
X-ORIGINAL-URL:https://olddub.lunadomo.com
X-WR-CALDESC:Events for The Dubliner Pub
REFRESH-INTERVAL;VALUE=DURATION:PT1H
X-Robots-Tag:noindex
X-PUBLISHED-TTL:PT1H
BEGIN:VTIMEZONE
TZID:America/Chicago
BEGIN:DAYLIGHT
TZOFFSETFROM:-0600
TZOFFSETTO:-0500
TZNAME:CDT
DTSTART:20250309T080000
END:DAYLIGHT
BEGIN:STANDARD
TZOFFSETFROM:-0500
TZOFFSETTO:-0600
TZNAME:CST
DTSTART:20251102T070000
END:STANDARD
BEGIN:DAYLIGHT
TZOFFSETFROM:-0600
TZOFFSETTO:-0500
TZNAME:CDT
DTSTART:20260308T080000
END:DAYLIGHT
BEGIN:STANDARD
TZOFFSETFROM:-0500
TZOFFSETTO:-0600
TZNAME:CST
DTSTART:20261101T070000
END:STANDARD
BEGIN:DAYLIGHT
TZOFFSETFROM:-0600
TZOFFSETTO:-0500
TZNAME:CDT
DTSTART:20270314T080000
END:DAYLIGHT
BEGIN:STANDARD
TZOFFSETFROM:-0500
TZOFFSETTO:-0600
TZNAME:CST
DTSTART:20271107T070000
END:STANDARD
END:VTIMEZONE
BEGIN:VEVENT
DTSTART;TZID=America/Chicago:20260115T170000
DTEND;TZID=America/Chicago:20260115T190000
DTSTAMP:20260424T020055
CREATED:20221230T052558Z
LAST-MODIFIED:20251202T204613Z
UID:10005624-1768496400-1768503600@olddub.lunadomo.com
SUMMARY:Mike Munson
DESCRIPTION:Having established himself as an adept slide guitar player\, Mike Munson is steeped in the country blues tradition. His original works weave together dark lyrics\, impossibly fast-paced finger-picking and grinding rhythms. His sound marks the similarities and highlights the distance between Fred McDowell\, Leo Kottke and Chuck Berry. \nmikemunson.net
URL:https://olddub.lunadomo.com/event/mike-munson/2026-01-15/
LOCATION:The Dubliner Pub\, 2162 University Avenue\, St. Paul\, 55114\, United States
CATEGORIES:Music
ATTACH;FMTTYPE=image/jpeg:https://olddub.lunadomo.com/wp-content/uploads/mike-munson-drawing.jpg
GEO:44.9604294;-93.1896843
X-APPLE-STRUCTURED-LOCATION;VALUE=URI;X-ADDRESS=The Dubliner Pub 2162 University Avenue St. Paul 55114 United States;X-APPLE-RADIUS=500;X-TITLE=2162 University Avenue:geo:-93.1896843,44.9604294
END:VEVENT
BEGIN:VEVENT
DTSTART;TZID=America/Chicago:20260115T200000
DTEND;TZID=America/Chicago:20260115T230000
DTSTAMP:20260424T020055
CREATED:20221207T032806Z
LAST-MODIFIED:20260419T014051Z
UID:10005656-1768507200-1768518000@olddub.lunadomo.com
SUMMARY:Devil Dodger
DESCRIPTION:Devil Dodger is a Twin Cities based musician specializing in American roots music and has released six studio albums. His music draws on a range of themes from lost love\, heartache\, jail and going to his grandfather’s farm as a child. He is also poet and writer\, but is most well-known for telling stories and talking shit.
URL:https://olddub.lunadomo.com/event/devil-dodger/2026-01-15/
LOCATION:The Dubliner Pub\, 2162 University Avenue\, St. Paul\, 55114\, United States
CATEGORIES:Music
ATTACH;FMTTYPE=image/jpeg:https://olddub.lunadomo.com/wp-content/uploads/devil-dodger-2026.jpg
GEO:44.9604294;-93.1896843
X-APPLE-STRUCTURED-LOCATION;VALUE=URI;X-ADDRESS=The Dubliner Pub 2162 University Avenue St. Paul 55114 United States;X-APPLE-RADIUS=500;X-TITLE=2162 University Avenue:geo:-93.1896843,44.9604294
END:VEVENT
END:VCALENDAR