BEGIN:VCALENDAR
VERSION:2.0
PRODID:-//The Dubliner Pub - ECPv6.15.20//NONSGML v1.0//EN
CALSCALE:GREGORIAN
METHOD:PUBLISH
X-ORIGINAL-URL:https://olddub.lunadomo.com
X-WR-CALDESC:Events for The Dubliner Pub
REFRESH-INTERVAL;VALUE=DURATION:PT1H
X-Robots-Tag:noindex
X-PUBLISHED-TTL:PT1H
BEGIN:VTIMEZONE
TZID:America/Chicago
BEGIN:DAYLIGHT
TZOFFSETFROM:-0600
TZOFFSETTO:-0500
TZNAME:CDT
DTSTART:20240310T080000
END:DAYLIGHT
BEGIN:STANDARD
TZOFFSETFROM:-0500
TZOFFSETTO:-0600
TZNAME:CST
DTSTART:20241103T070000
END:STANDARD
BEGIN:DAYLIGHT
TZOFFSETFROM:-0600
TZOFFSETTO:-0500
TZNAME:CDT
DTSTART:20250309T080000
END:DAYLIGHT
BEGIN:STANDARD
TZOFFSETFROM:-0500
TZOFFSETTO:-0600
TZNAME:CST
DTSTART:20251102T070000
END:STANDARD
BEGIN:DAYLIGHT
TZOFFSETFROM:-0600
TZOFFSETTO:-0500
TZNAME:CDT
DTSTART:20260308T080000
END:DAYLIGHT
BEGIN:STANDARD
TZOFFSETFROM:-0500
TZOFFSETTO:-0600
TZNAME:CST
DTSTART:20261101T070000
END:STANDARD
END:VTIMEZONE
BEGIN:VEVENT
DTSTART;VALUE=DATE:20251201
DTEND;VALUE=DATE:20251209
DTSTAMP:20260424T050454
CREATED:20251201T041412Z
LAST-MODIFIED:20251201T042919Z
UID:10005612-1764554400-1765159199@olddub.lunadomo.com
SUMMARY:Beer & Pizza Special
DESCRIPTION:For the first week of December\, we are running a Heggies and beer special – $22 for any Heggies Pizza and two beers\, for these beers: \n\nHamm’s\nFulton Lonely Blonde\nFulton Blood Orange Seltzer\nLagunitas Hazy\nLagunitas Pils\nBell’s Two Hearted\nIndeed Pistachio\nMagners
URL:https://olddub.lunadomo.com/event/beer-pizza-special/
LOCATION:The Dubliner Pub\, 2162 University Avenue\, St. Paul\, 55114\, United States
ATTACH;FMTTYPE=image/jpeg:https://olddub.lunadomo.com/wp-content/uploads/beer-and-pizza-special-3.jpg
GEO:44.9604294;-93.1896843
X-APPLE-STRUCTURED-LOCATION;VALUE=URI;X-ADDRESS=The Dubliner Pub 2162 University Avenue St. Paul 55114 United States;X-APPLE-RADIUS=500;X-TITLE=2162 University Avenue:geo:-93.1896843,44.9604294
END:VEVENT
BEGIN:VEVENT
DTSTART;TZID=America/Chicago:20251205T180000
DTEND;TZID=America/Chicago:20251205T200000
DTSTAMP:20260424T050454
CREATED:20210522T022843Z
LAST-MODIFIED:20260305T033838Z
UID:10005521-1764957600-1764964800@olddub.lunadomo.com
SUMMARY:Irish Music Session
DESCRIPTION:Weekly trad session at the Dubliner.
URL:https://olddub.lunadomo.com/event/irish-music-session-2022-12-09/2025-12-05/
LOCATION:The Dubliner Pub\, 2162 University Avenue\, St. Paul\, 55114\, United States
CATEGORIES:Session
ATTACH;FMTTYPE=image/jpeg:https://olddub.lunadomo.com/wp-content/uploads/session-4805-daithi-sproule-600.jpg
GEO:44.9604294;-93.1896843
X-APPLE-STRUCTURED-LOCATION;VALUE=URI;X-ADDRESS=The Dubliner Pub 2162 University Avenue St. Paul 55114 United States;X-APPLE-RADIUS=500;X-TITLE=2162 University Avenue:geo:-93.1896843,44.9604294
END:VEVENT
BEGIN:VEVENT
DTSTART;TZID=America/Chicago:20251205T210000
DTEND;TZID=America/Chicago:20251206T004500
DTSTAMP:20260424T050454
CREATED:20221203T045846Z
LAST-MODIFIED:20260320T000350Z
UID:10005584-1764968400-1764981900@olddub.lunadomo.com
SUMMARY:DD & Company
DESCRIPTION:DD & Company is Dick Danaher (accordion\, clarinet\, tenor saxophone\, vocals) and Nick Jordan (guitar\, vocals\, tinwhistle\, and foot percussion) and Philip Rampi (percussion). \nDick Danaher is a long-time luminary of the Twin Cities roots music scene\, on various saxophones and accordion\, most recently with Dan Newton and the late and great Rockin’ Pinecones \nPhilip Rampi plays bass / percussion\, octave mandolin\, banjo and cello with the adventurous string band treVeld\, and with Josh Cleveland and the Cedar Street Band \nNick Jordan is a guitarist and singer with a love for many kinds of roots music; he is equally fond of sublime Swing ballads and raucous Jug-band hollers. He has been working for years in a duo with fiddler Mary DuShane of Prairie Home Companion fame. \nDD & Company play and sing Swing\, Zydeco\, Western Swing\, Old-Time Country\, Rockabilly\, and Jug-Band music\, plus the odd Tango and Irish jig. The tie that binds their music is catchy dance rhythms from many cultures\, propelled by the big voice of the accordion\, jazzy solos on clarinet and sax\, the rich tones of an electric archtop guitar of fine vintage\, fierce double percussion from a small drum kit and relentless foot percussion in the French Canadian style. All band members sing enthusiastically. \nFacebook page
URL:https://olddub.lunadomo.com/event/dd-company/2025-12-05/
LOCATION:The Dubliner Pub\, 2162 University Avenue\, St. Paul\, 55114\, United States
CATEGORIES:Music
ATTACH;FMTTYPE=image/jpeg:https://olddub.lunadomo.com/wp-content/uploads/ddandco3.jpg
GEO:44.9604294;-93.1896843
X-APPLE-STRUCTURED-LOCATION;VALUE=URI;X-ADDRESS=The Dubliner Pub 2162 University Avenue St. Paul 55114 United States;X-APPLE-RADIUS=500;X-TITLE=2162 University Avenue:geo:-93.1896843,44.9604294
END:VEVENT
END:VCALENDAR